BEGIN:VCALENDAR
VERSION:2.0
PRODID:-//Plone.org//NONSGML plone.app.event//EN
X-WR-TIMEZONE:Europe/Vienna
BEGIN:VEVENT
SUMMARY:Deconstructing NORA
DTSTART;TZID=Europe/Vienna;VALUE=DATE-TIME:20260911T193000
DTEND;TZID=Europe/Vienna;VALUE=DATE-TIME:20260911T211500
DTSTAMP;VALUE=DATE-TIME:20260423T170926Z
UID:a97aa2fafc214cf18386968df181c72d@127.0.0.1:10601
RDATE;TZID=Europe/Vienna:20260912T000000,20260914T000000,20260915T000000,2
 0260916T000000
EXDATE;TZID=Europe/Vienna:20260913T000000,20260916T000000,20260917T000000
CONTACT:Carolina Gut\, +41 79 283 83 10\, hellraumprojekt@gmx.ch\, https:/
 /sommercasino.ch/
CREATED;VALUE=DATE-TIME:20260406T072144Z
LAST-MODIFIED;VALUE=DATE-TIME:20260423T110634Z
LOCATION:Sommercasino BASEL
RRULE:FREQ=DAILY;UNTIL=20260916T000000;INTERVAL=5
URL:https://theater.edubs.ch/festespieldaten/deconstructing-nora
END:VEVENT
BEGIN:VTIMEZONE
TZID:Europe/Vienna
X-LIC-LOCATION:Europe/Vienna
BEGIN:DAYLIGHT
DTSTART;VALUE=DATE-TIME:20260329T030000
TZNAME:CEST
TZOFFSETFROM:+0100
TZOFFSETTO:+0200
END:DAYLIGHT
END:VTIMEZONE
END:VCALENDAR
